BEGIN:VCALENDAR
VERSION:2.0
PRODID:-//San Francisco Parent Coalition - ECPv6.15.18//NONSGML v1.0//EN
CALSCALE:GREGORIAN
METHOD:PUBLISH
X-ORIGINAL-URL:https://sfparents.org
X-WR-CALDESC:Events for San Francisco Parent Coalition
REFRESH-INTERVAL;VALUE=DURATION:PT1H
X-Robots-Tag:noindex
X-PUBLISHED-TTL:PT1H
BEGIN:VTIMEZONE
TZID:UTC
BEGIN:STANDARD
TZOFFSETFROM:+0000
TZOFFSETTO:+0000
TZNAME:UTC
DTSTART:20240101T000000
END:STANDARD
END:VTIMEZONE
BEGIN:VEVENT
DTSTART;TZID=UTC:20250826T183000
DTEND;TZID=UTC:20250826T210000
DTSTAMP:20260423T162404
CREATED:20250425T003732Z
LAST-MODIFIED:20250723T173958Z
UID:25745-1756233000-1756242000@sfparents.org
SUMMARY:Back to School Board Meeting and Parents' Night Out
DESCRIPTION:Join us for the 8/26 School Board Meeting & Parents’ Night Out!\nJoin SF Parents Coalition for our first Parents’ Night Out of the school year on Tuesday\, August 26\, from 7:00–9:00 PM at Anina (482 Hayes St.). \nBefore we gather to reconnect and catch up\, we’re inviting parents to meet us at 6:30 PM for public comment at the SFUSD Board of Education meeting at 555 Franklin St.\, 1st Floor. \nWe’re aiming for a strong parent presence to share our priorities for the year and to show the board that families are paying attention. After public comment\, we’ll walk over to Anina together. \nClick Here to RSVP \n 
URL:https://sfparents.org/event/august25pno/
LOCATION:ANINA\, 482 Hayes st.\, San Francisco\, CA\, 94102\, United States
CATEGORIES:Events
ATTACH;FMTTYPE=image/jpeg:https://sfparents.org/wp-content/uploads/2025/04/Aug-25-PNO.jpg
END:VEVENT
END:VCALENDAR