BEGIN:VCALENDAR
VERSION:2.0
PRODID:-//San Francisco Parent Coalition - ECPv6.15.18//NONSGML v1.0//EN
CALSCALE:GREGORIAN
METHOD:PUBLISH
X-WR-CALNAME:San Francisco Parent Coalition
X-ORIGINAL-URL:https://sfparents.org
X-WR-CALDESC:Events for San Francisco Parent Coalition
REFRESH-INTERVAL;VALUE=DURATION:PT1H
X-Robots-Tag:noindex
X-PUBLISHED-TTL:PT1H
BEGIN:VTIMEZONE
TZID:America/Los_Angeles
BEGIN:DAYLIGHT
TZOFFSETFROM:-0800
TZOFFSETTO:-0700
TZNAME:PDT
DTSTART:20250309T100000
END:DAYLIGHT
BEGIN:STANDARD
TZOFFSETFROM:-0700
TZOFFSETTO:-0800
TZNAME:PST
DTSTART:20251102T090000
END:STANDARD
BEGIN:DAYLIGHT
TZOFFSETFROM:-0800
TZOFFSETTO:-0700
TZNAME:PDT
DTSTART:20260308T100000
END:DAYLIGHT
BEGIN:STANDARD
TZOFFSETFROM:-0700
TZOFFSETTO:-0800
TZNAME:PST
DTSTART:20261101T090000
END:STANDARD
BEGIN:DAYLIGHT
TZOFFSETFROM:-0800
TZOFFSETTO:-0700
TZNAME:PDT
DTSTART:20270314T100000
END:DAYLIGHT
BEGIN:STANDARD
TZOFFSETFROM:-0700
TZOFFSETTO:-0800
TZNAME:PST
DTSTART:20271107T090000
END:STANDARD
END:VTIMEZONE
BEGIN:VEVENT
DTSTART;TZID=America/Los_Angeles:20260423T193000
DTEND;TZID=America/Los_Angeles:20260423T210000
DTSTAMP:20260423T020610
CREATED:20260406T202353Z
LAST-MODIFIED:20260423T074726Z
UID:33555-1776972600-1776978000@sfparents.org
SUMMARY:Let's Shake the Trees: How to Actually Fully Fund San Francisco's Public Schools
DESCRIPTION:San Francisco’s public schools are facing a structural budget crisis\, and our students are feeling the impact. \nThe levers to change this do exist. They are just hard to see and harder to pull. \nOn April 23 (7:30–9:00 PM)\, we’re hosting a virtual town hall to cut through the noise and focus on what actually needs to happen to fully fund our schools. \nWe’re bringing together leaders from SFUSD\, City Hall\, and across California’s education system to break down: \nHow school funding actually workWhere funding is getting stuckWhat it would take to increase resources in our schoolsWhat parents and communities can do right now to move this forward \nPanel includes: \nMaria Su\, Superintendent\, SFUSDRafael Mandelman\, President\, Board of SupervisorsKunal Modi\, Mayor’s OfficePhil Halperin\, Silver Giving FoundationJill Golub\, Campaign Strategy Expert \nIf you have ever looked at a school budget cut and thought\, how is this still happening\, this conversation is for you.
URL:https://sfparents.org/event/lets-shake-the-trees-how-to-actually-fully-fund-san-franciscos-public-schools/
LOCATION:https://zoom.us/j/97270515704
END:VEVENT
END:VCALENDAR